BEGIN:VCALENDAR
VERSION:2.0
PRODID:-//Because There&#039;s More Publishing, LLC - ECPv6.15.20//NONSGML v1.0//EN
CALSCALE:GREGORIAN
METHOD:PUBLISH
X-WR-CALNAME:Because There&#039;s More Publishing, LLC
X-ORIGINAL-URL:https://becausetheresmorepublishing.com
X-WR-CALDESC:Events for Because There&#039;s More Publishing, LLC
REFRESH-INTERVAL;VALUE=DURATION:PT1H
X-Robots-Tag:noindex
X-PUBLISHED-TTL:PT1H
BEGIN:VTIMEZONE
TZID:America/New_York
BEGIN:DAYLIGHT
TZOFFSETFROM:-0500
TZOFFSETTO:-0400
TZNAME:EDT
DTSTART:20240310T070000
END:DAYLIGHT
BEGIN:STANDARD
TZOFFSETFROM:-0400
TZOFFSETTO:-0500
TZNAME:EST
DTSTART:20241103T060000
END:STANDARD
BEGIN:DAYLIGHT
TZOFFSETFROM:-0500
TZOFFSETTO:-0400
TZNAME:EDT
DTSTART:20250309T070000
END:DAYLIGHT
BEGIN:STANDARD
TZOFFSETFROM:-0400
TZOFFSETTO:-0500
TZNAME:EST
DTSTART:20251102T060000
END:STANDARD
BEGIN:DAYLIGHT
TZOFFSETFROM:-0500
TZOFFSETTO:-0400
TZNAME:EDT
DTSTART:20260308T070000
END:DAYLIGHT
BEGIN:STANDARD
TZOFFSETFROM:-0400
TZOFFSETTO:-0500
TZNAME:EST
DTSTART:20261101T060000
END:STANDARD
END:VTIMEZONE
BEGIN:VEVENT
DTSTART;TZID=America/New_York:20250517T130000
DTEND;TZID=America/New_York:20250517T153000
DTSTAMP:20260425T120114
CREATED:20250301T035019Z
LAST-MODIFIED:20250331T193728Z
UID:8046-1747486800-1747495800@becausetheresmorepublishing.com
SUMMARY:Booked & Connected: Meet\, Mingle & Get Inspired!
DESCRIPTION:📚 Booked & Connected: Meet\, Mingle & Get Inspired! 📚\nJoin us for our first-ever Authors’ Mixer!\n📅 Date: Saturday\, May 17\, 2025\n🕐 Time: 1:00 PM – 3:30 PM\n📍 Location: Social Cafe \nThis is your chance to meet\, mix\, and mingle with the talented authors behind the books you love! Whether you’re a reader\, aspiring writer\, or just looking for a great way to spend the afternoon\, you won’t want to miss this: \n📖 Meet & Greet with BTMP Authors – Get to know our featured authors\, hear their stories\, and connect on a personal level.\n🖊️ Book Signing & Purchases – Pick up a copy of their books\, get them signed\, and support independent authors.\n🎤 Live Author Panel – Ask questions\, gain insights\, and hear directly from our authors about their writing journeys. (Panel will be recorded for YouTube!)\n🍽️ Great Food & Networking – Enjoy delicious bites from Social Cafe while mingling with fellow book lovers and creatives. \nWhether you come to support your favorite author\, discover a new read\, or simply enjoy great company\, this event is for you! Mark your calendar and join us for an unforgettable afternoon. \n📌 RSVP today & spread the word! 📚✨
URL:https://becausetheresmorepublishing.com/event/authors-mixer-may-2025/
LOCATION:Social Cafe\, 2439 Main Street East\, Suite 7\, Snellville\, GA\, 30078\, United States
CATEGORIES:BTMP Event
ATTACH;FMTTYPE=image/png:https://becausetheresmorepublishing.com/wp-content/uploads/2025/02/booked-and-connected.png
ORGANIZER;CN="Because There's More Publishing LLC":MAILTO:events@becausetheresmorepublishing.com
END:VEVENT
END:VCALENDAR