BEGIN:VCALENDAR
VERSION:2.0
PRODID:-//Because There&#039;s More Publishing, LLC - ECPv6.15.20//NONSGML v1.0//EN
CALSCALE:GREGORIAN
METHOD:PUBLISH
X-ORIGINAL-URL:https://becausetheresmorepublishing.com
X-WR-CALDESC:Events for Because There&#039;s More Publishing, LLC
REFRESH-INTERVAL;VALUE=DURATION:PT1H
X-Robots-Tag:noindex
X-PUBLISHED-TTL:PT1H
BEGIN:VTIMEZONE
TZID:America/New_York
BEGIN:DAYLIGHT
TZOFFSETFROM:-0500
TZOFFSETTO:-0400
TZNAME:EDT
DTSTART:20240310T070000
END:DAYLIGHT
BEGIN:STANDARD
TZOFFSETFROM:-0400
TZOFFSETTO:-0500
TZNAME:EST
DTSTART:20241103T060000
END:STANDARD
BEGIN:DAYLIGHT
TZOFFSETFROM:-0500
TZOFFSETTO:-0400
TZNAME:EDT
DTSTART:20250309T070000
END:DAYLIGHT
BEGIN:STANDARD
TZOFFSETFROM:-0400
TZOFFSETTO:-0500
TZNAME:EST
DTSTART:20251102T060000
END:STANDARD
BEGIN:DAYLIGHT
TZOFFSETFROM:-0500
TZOFFSETTO:-0400
TZNAME:EDT
DTSTART:20260308T070000
END:DAYLIGHT
BEGIN:STANDARD
TZOFFSETFROM:-0400
TZOFFSETTO:-0500
TZNAME:EST
DTSTART:20261101T060000
END:STANDARD
BEGIN:DAYLIGHT
TZOFFSETFROM:-0500
TZOFFSETTO:-0400
TZNAME:EDT
DTSTART:20270314T070000
END:DAYLIGHT
BEGIN:STANDARD
TZOFFSETFROM:-0400
TZOFFSETTO:-0500
TZNAME:EST
DTSTART:20271107T060000
END:STANDARD
END:VTIMEZONE
BEGIN:VEVENT
DTSTART;TZID=America/New_York:20250823T180000
DTEND;TZID=America/New_York:20250823T210000
DTSTAMP:20260425T112311
CREATED:20250328T001410Z
LAST-MODIFIED:20250328T030805Z
UID:8240-1755972000-1755982800@becausetheresmorepublishing.com
SUMMARY:Saturday Night Poetic Flo Summer Series 8.23.25
DESCRIPTION:Saturday Night Poetic Flo Summer Series\nFeel the Vibe. Feed Your Soul. Flo with Us.\nSaturday Night Poetic Flo is back and hotter than ever with our Summer Series – an unforgettable evening of creativity\, connection\, and community. Join us for a night where words come alive\, featuring performances from local spoken word artists\, a soulful open mic\, and live music that will move your spirit – all in a welcoming Christian atmosphere that uplifts and inspires. \n🌟 Experience the Flo – Immerse yourself in an electric atmosphere curated for lovers of poetry\, music\, and authentic expression. \n🎤 Step Up to the Mic – Whether you’re a seasoned poet or first-time performer\, our open mic is your stage to shine. \n🎶 Live Sounds – Let the music set the mood and elevate the night. \n🍽️ Good Eats – Savor delicious bites from Social Cafe\, bringing the flavor to match the vibe. \nLimited seating available. Get your tickets now and be part of the Flo. \nClick here for more details.
URL:https://becausetheresmorepublishing.com/event/saturday-night-poetic-flo-summer-series-8-23-25/
LOCATION:Social Cafe\, 2439 Main Street East\, Suite 7\, Snellville\, GA\, 30078\, United States
CATEGORIES:BTMP Event
ATTACH;FMTTYPE=image/png:https://becausetheresmorepublishing.com/wp-content/uploads/2024/06/SNPF-Summer-Series.png
ORGANIZER;CN="Because There's More Publishing LLC":MAILTO:events@becausetheresmorepublishing.com
END:VEVENT
BEGIN:VEVENT
DTSTART;TZID=America/New_York:20251018T130000
DTEND;TZID=America/New_York:20251018T153000
DTSTAMP:20260425T112311
CREATED:20250628T043347Z
LAST-MODIFIED:20250905T135334Z
UID:8921-1760792400-1760801400@becausetheresmorepublishing.com
SUMMARY:Booked & Connected: Meet\, Mingle & Get Inspired 10.18.25
DESCRIPTION:📚 Booked & Connected: Meet\, Mingle & Get Inspired! 📚\nJoin us for our last Authors Mixer of 2025!\n📅 Date: Saturday\, October 18\, 2025\n🕐 Time: 1:00 PM – 3:30 PM\n📍 Location: Social Cafe \nThis is your chance to meet\, mix\, and mingle with the talented authors behind the books you love! Whether you’re a reader\, aspiring writer\, or just looking for a great way to spend the afternoon\, you won’t want to miss this: \n📖 Meet & Greet – Get to know our featured authors\, hear their stories\, and connect on a personal level.\n🖊️ Book Signing & Purchases – Pick up a copy of their books\, get them signed\, and support independent authors.\n🎤 Live Author Panel – Ask questions\, gain insights\, and hear directly from our authors about their writing journeys. (Panel will be recorded for YouTube!)\n🍽️ Great Food & Networking – Enjoy delicious bites from Social Cafe while mingling with fellow book lovers and creatives. \nWhether you come to support your favorite author\, discover a new read\, or simply enjoy great company\, this event is for you! Mark your calendar and join us for an unforgettable afternoon. \n📌 RSVP Today & spread the word! 📚✨
URL:https://becausetheresmorepublishing.com/event/booked-connected-meet-mingle-get-inspired-oct-182025/
LOCATION:Social Cafe\, 2439 Main Street East\, Suite 7\, Snellville\, GA\, 30078\, United States
CATEGORIES:BTMP Event
ATTACH;FMTTYPE=image/png:https://becausetheresmorepublishing.com/wp-content/uploads/2025/09/booked-and-connected.png
ORGANIZER;CN="Because There's More Publishing LLC":MAILTO:events@becausetheresmorepublishing.com
END:VEVENT
BEGIN:VEVENT
DTSTART;VALUE=DATE:20251124
DTEND;VALUE=DATE:20251201
DTSTAMP:20260425T112311
CREATED:20250513T223737Z
LAST-MODIFIED:20251001T125315Z
UID:8696-1763942400-1764547199@becausetheresmorepublishing.com
SUMMARY:Office Closed - Thanksgiving Holiday
DESCRIPTION:Our office will be closed the week of Thanksgiving.
URL:https://becausetheresmorepublishing.com/event/office-closed-thanksgiving-holiday/
LOCATION:GA
END:VEVENT
BEGIN:VEVENT
DTSTART;TZID=America/New_York:20251213T130000
DTEND;TZID=America/New_York:20251213T150000
DTSTAMP:20260425T112311
CREATED:20251210T152152Z
LAST-MODIFIED:20251213T131549Z
UID:9996-1765630800-1765638000@becausetheresmorepublishing.com
SUMMARY:Official Book Launch: A Magical Day with Gracie
DESCRIPTION:🌟 Official Book Launch: A Magical Day with Gracie\nBy Jenise Greene\, LPC\, RPT\, NCC\, CAMS \nJoin us for a heartwarming celebration as we officially launch A Magical Day with Gracie—a delightful children’s book that empowers little ones with coping skills\, confidence\, and courage for life’s new experiences. \nWritten by Licensed Professional Counselor and Play Therapist Jenise Greene\, this beautiful story helps young readers understand and manage their emotions through simple\, kid-friendly strategies. Gracie’s journey reminds children that big feelings don’t have to be scary—they can become learning opportunities that shape confidence and resilience. \nThis family-friendly book launch will include:\n✨ A reading of A Magical Day with Gracie\n✨ A meet-the-author moment with Jenise Greene\n✨ Book signing & photo opportunities \n📅 Event Details\nDate: Saturday\, December 13\, 2025\nTime: 1:00 PM – 3:00 PM\nLocation: Lake Harbin Plaza\nRhema Wind Ministries\n2316 Lake Harbin Rd\nMorrow\, GA 30260 \n💜 Why This Book Matters\nA Magical Day with Gracie is the ultimate guide for little hearts learning big skills. Through gentle storytelling and relatable emotions\, children will discover how to breathe through their worries\, face new environments with bravery\, and embrace the magic of growth. \nWhether you’re a parent\, educator\, counselor\, or someone who loves children’s literature\, this launch event is the perfect opportunity to experience the magic and message behind Gracie’s story. \n🎉 Bring the kids\, invite a friend\, and come celebrate this beautiful new release! We can’t wait to see you there.
URL:https://becausetheresmorepublishing.com/event/official-book-launch-a-magical-day-with-gracie/
LOCATION:Rhema Wind Ministries\, 2316 Lake Harbin Rd\, Morrow\, GA\, 30260\, United States
CATEGORIES:Author Event
ATTACH;FMTTYPE=image/png:https://becausetheresmorepublishing.com/wp-content/uploads/2025/12/Gracie-eventbrite.png
END:VEVENT
BEGIN:VEVENT
DTSTART;VALUE=DATE:20251215
DTEND;VALUE=DATE:20260103
DTSTAMP:20260425T112311
CREATED:20251210T184939Z
LAST-MODIFIED:20251210T190351Z
UID:9995-1765756800-1767398399@becausetheresmorepublishing.com
SUMMARY:Office Closed for Christmas and New Year Holidays
DESCRIPTION:Our office will be closed December 15\, 2025 – January 2\, 2026. Our bookstore remains open\, so feel free to browse and shop. Our books make wonderful gifts and stocking stuffers! \n 
URL:https://becausetheresmorepublishing.com/event/office-closed-for-christmas-and-new-year-holidays/
LOCATION:GA
END:VEVENT
BEGIN:VEVENT
DTSTART;VALUE=DATE:20260119
DTEND;VALUE=DATE:20260120
DTSTAMP:20260425T112311
CREATED:20260119T030652Z
LAST-MODIFIED:20260119T030652Z
UID:10210-1768780800-1768867199@becausetheresmorepublishing.com
SUMMARY:Office Closed for MLK Jr. Day
DESCRIPTION:Our office will be closed Monday\, January 19th in observance of Dr. Martin Luther King Jr. Day. \n 
URL:https://becausetheresmorepublishing.com/event/office-closed-for-mlk-jr-day/
LOCATION:GA
END:VEVENT
BEGIN:VEVENT
DTSTART;TZID=America/New_York:20260208T100000
DTEND;TZID=America/New_York:20260208T130000
DTSTAMP:20260425T112311
CREATED:20260119T042851Z
LAST-MODIFIED:20260129T131850Z
UID:10214-1770544800-1770555600@becausetheresmorepublishing.com
SUMMARY:Official Book Launch: The Life of Mother Kathaleen McGhaney
DESCRIPTION:Official Book Launch & Signing\nThe Life of Mother Kathaleen McGhaney by Dr. Devorha L. Anderson\nJoin us for the Official Book Launch and Signing of The Life of Mother Kathaleen McGhaney on Sunday\, February 8\, 2026\, at The Arise Church of Atlanta\, immediately following morning worship. \nMorning Worship begins at 10:00 AM.  \nFollowing service\, stay for a special time of celebration\, fellowship\, and reflection as we honor the remarkable life and legacy of Mother Kathaleen McGhaney. \nBook Signing is from 12:30 PM – 1:30 PM. \nThis powerful biography tells the true story of a woman whose unwavering “yes” to God transformed generations. From humble beginnings to a far-reaching spiritual impact\, Mother McGhaney’s life stands as living proof that prayer still works and that God is still moving\, still speaking\, and still performing miracles today. \nWhat you’ll experience: \n\nAn opportunity to meet the author\, Dr. Devorha L. Anderson\nA chance to meet and celebrate Mother Kathaleen McGhaney\nBook signing and personal interaction\nFellowship with the church family and community\nA moment to reflect on a life poured out in faith\, obedience\, and love\n\nWhether you’ve been touched by Mother McGhaney’s ministry or are discovering her story for the first time\, this event is an invitation to be encouraged\, inspired\, and reminded of the power of a surrendered life. \n📍 Location:\n2636 Fairburn Rd SW\nAtlanta\, GA 30331 \nCome out\, support\, and celebrate this extraordinary legacy.\nWe look forward to seeing you!
URL:https://becausetheresmorepublishing.com/event/official-book-launch-the-life-of-mother-kathaleen-mcghaney/
LOCATION:Arise Church Atlanta\, 2636 Fairburn Rd SW\, Atlanta\, 30331\, United States
CATEGORIES:Author Event
ATTACH;FMTTYPE=image/jpeg:https://becausetheresmorepublishing.com/wp-content/uploads/2025/12/Life-of-Mother-McGhaney-JPEG-Book-Cover.jpg
END:VEVENT
BEGIN:VEVENT
DTSTART;TZID=America/New_York:20260312T193000
DTEND;TZID=America/New_York:20260312T203000
DTSTAMP:20260425T112311
CREATED:20260226T205802Z
LAST-MODIFIED:20260226T205855Z
UID:10439-1773343800-1773347400@becausetheresmorepublishing.com
SUMMARY:BTMP Author Empowerment Session #1
DESCRIPTION:Authors\, Let’s Grow Together\nThis exclusive empowerment session is designed specifically for authors published under Because There’s More Publishing. \nThroughout the year\, BTMP will host a series of author-focused gatherings created to educate\, equip\, and encourage you in your publishing journey. These sessions provide practical insight\, strategic guidance\, and community connection to help you grow as an author and expand your reach. \nDuring this session\, we’ll cover: \n\nMarketing opportunities\, including book fairs\, book awards\, and book signings\nDistribution insights and industry updates\nAuthor-to-author encouragement and shared experiences\nSocial media support and content strategy guidance\n\nThese sessions are intentionally curated to strengthen your confidence\, visibility\, and long-term success as a BTMP author. \nPlease note: This event is exclusively for BTMP authors. \nWe look forward to connecting\, collaborating\, and continuing to build together.
URL:https://becausetheresmorepublishing.com/event/btmp-author-empowerment-session-1/
LOCATION:Google Meet
CATEGORIES:Training/Empowerment
ORGANIZER;CN="Because There's More Publishing LLC":MAILTO:events@becausetheresmorepublishing.com
END:VEVENT
BEGIN:VEVENT
DTSTART;TZID=America/New_York:20260411T100000
DTEND;TZID=America/New_York:20260411T180000
DTSTAMP:20260425T112311
CREATED:20260226T220141Z
LAST-MODIFIED:20260318T011100Z
UID:10442-1775901600-1775930400@becausetheresmorepublishing.com
SUMMARY:Conyers Book Festival
DESCRIPTION:Join Us!\nBecause There’s More Publishing (BTMP) will be a featured vendor at the Conyers Book Festival on Saturday\, April 11\, 2026\, from 10 AM – 6 PM at the Georgia International Horse Park in Conyers\, GA. \nStop by our booth to meet local authors\, discover new books across multiple genres\, and learn more about our publishing services for aspiring and emerging writers. We’ll have a curated selection of titles from BTMP authors available for purchase and signing\, along with information for those interested in bringing their own book to life. \nHosted in Olde Town Conyers\, the 4th Annual Conyers Book Festival is a vibrant\, family-friendly literary celebration featuring nationally known authors\, workshops\, food trucks\, live music\, poetry\, and a marketplace of up to 150 vendors. \nCome support local authors and artists. We look forward to seeing you there!
URL:https://becausetheresmorepublishing.com/event/conyers-book-festival/
LOCATION:Georgia International Horse Park\, 1996 Centennial Olympic Parkway\, Conyers\, GA\, 30013\, United States
CATEGORIES:Book Fair/Festival
ATTACH;FMTTYPE=image/png:https://becausetheresmorepublishing.com/wp-content/uploads/2026/02/CONYERS-BOOK-FESTIVAL-1.png
END:VEVENT
END:VCALENDAR