BEGIN:VCALENDAR
VERSION:2.0
PRODID:-//Because There&#039;s More Publishing, LLC - ECPv6.15.20//NONSGML v1.0//EN
CALSCALE:GREGORIAN
METHOD:PUBLISH
X-WR-CALNAME:Because There&#039;s More Publishing, LLC
X-ORIGINAL-URL:https://becausetheresmorepublishing.com
X-WR-CALDESC:Events for Because There&#039;s More Publishing, LLC
REFRESH-INTERVAL;VALUE=DURATION:PT1H
X-Robots-Tag:noindex
X-PUBLISHED-TTL:PT1H
BEGIN:VTIMEZONE
TZID:America/New_York
BEGIN:DAYLIGHT
TZOFFSETFROM:-0500
TZOFFSETTO:-0400
TZNAME:EDT
DTSTART:20230312T070000
END:DAYLIGHT
BEGIN:STANDARD
TZOFFSETFROM:-0400
TZOFFSETTO:-0500
TZNAME:EST
DTSTART:20231105T060000
END:STANDARD
BEGIN:DAYLIGHT
TZOFFSETFROM:-0500
TZOFFSETTO:-0400
TZNAME:EDT
DTSTART:20240310T070000
END:DAYLIGHT
BEGIN:STANDARD
TZOFFSETFROM:-0400
TZOFFSETTO:-0500
TZNAME:EST
DTSTART:20241103T060000
END:STANDARD
BEGIN:DAYLIGHT
TZOFFSETFROM:-0500
TZOFFSETTO:-0400
TZNAME:EDT
DTSTART:20250309T070000
END:DAYLIGHT
BEGIN:STANDARD
TZOFFSETFROM:-0400
TZOFFSETTO:-0500
TZNAME:EST
DTSTART:20251102T060000
END:STANDARD
END:VTIMEZONE
BEGIN:VEVENT
DTSTART;TZID=America/New_York:20240928T180000
DTEND;TZID=America/New_York:20240928T210000
DTSTAMP:20260424T195553
CREATED:20240804T224544Z
LAST-MODIFIED:20240805T020212Z
UID:5855-1727546400-1727557200@becausetheresmorepublishing.com
SUMMARY:Saturday Night Poetic Flo 9.28.24
DESCRIPTION:We’re back again for another Saturday Night Poetic Flo!\nJoin us on Saturday\, September 28th at 6 PM at Social Cafe in Snellville\, GA for an unforgettable evening of live music\, delicious food\, inspiring poetry\, and a wonderful atmosphere. Enjoy performances by our featured artists and jump in on the open mic to share your gift of poetry or song! \nDon’t miss out on this epic night! \nGeneral admission tickets are only $5 per person. Signup for Open Mic for an additional $10. \nWhether you’re a poetry enthusiast\, a music lover\, or simply looking for a unique night out\, Saturday Night Poetic Flo promises an unforgettable experience. See you there! \n Click here to secure your spot or scan QR code. \nDue to limited seating\, tickets cannot be purchased at the door. Tickets are non-refundable.
URL:https://becausetheresmorepublishing.com/event/saturday-night-poetic-flo-9-28-24/
LOCATION:Social Cafe\, 2439 Main Street East\, Suite 7\, Snellville\, GA\, 30078\, United States
CATEGORIES:BTMP Event
ATTACH;FMTTYPE=image/jpeg:https://becausetheresmorepublishing.com/wp-content/uploads/2024/06/FB-banner.jpg
ORGANIZER;CN="Because There's More Publishing LLC":MAILTO:events@becausetheresmorepublishing.com
END:VEVENT
BEGIN:VEVENT
DTSTART;TZID=America/New_York:20240713T180000
DTEND;TZID=America/New_York:20240713T210000
DTSTAMP:20260424T195553
CREATED:20240613T015633Z
LAST-MODIFIED:20240804T223400Z
UID:5014-1720893600-1720904400@becausetheresmorepublishing.com
SUMMARY:Saturday Night Poetic Flo 7.13.24
DESCRIPTION:Because There’s More Publishing and All Things CREATIV Present Saturday Night Poetic Flo  \nJoin us for Saturday Night Poetic Flo\, an enchanting evening filled with live music\, great food\, and inspiring poetry. This in-person event is designed to captivate your senses and provide an entertaining experience. Immerse yourself in the vibrant atmosphere as keyboardist\, Rick Eiland\,  set the perfect backdrop for a night of artistic expression. Savor a variety of mouth-watering dishes from Big Brother’s Kitchen\, offering a culinary experience to complement the evening’s entertainment. General admission tickets are only $5 per person. \nFeatured artists for the night include the captivating Jus Jerri\, the soulful Loston Fudd\, the dynamic Ricci Danielle\, the rhythmic Renny\, and the radiant Lanetta Davis. Their performances will leave you inspired and uplifted. \n  \n \nAdditionally\, we have an Open Mic segment for any poets\, psalmists\, and spoken word artists interested in showcasing their craft. Registration for the open mic is just $10\, in addition to your general admission fee of $5. Please click here to access the event page and review the Open Mic guidelines before signing up. \nWhether you’re a poetry enthusiast\, a music lover\, or simply looking for a unique night out\, Saturday Night Poetic Flo promises an unforgettable experience. Mark your calendars and bring your friends for a night of rhythm\, rhyme\, and delicious fare! \nTicket sales begin Thursday\, June 13th at noon. Click here to secure your spot or scan QR code. \nDue to limited seating\, tickets cannot be purchased at the door.
URL:https://becausetheresmorepublishing.com/event/saturday-night-poetic-flo/
LOCATION:Social Cafe\, 2439 Main Street East\, Suite 7\, Snellville\, GA\, 30078\, United States
CATEGORIES:BTMP Event
ATTACH;FMTTYPE=image/jpeg:https://becausetheresmorepublishing.com/wp-content/uploads/2024/06/FB-banner.jpg
ORGANIZER;CN="Because There's More Publishing LLC":MAILTO:events@becausetheresmorepublishing.com
END:VEVENT
END:VCALENDAR