BEGIN:VCALENDAR
VERSION:2.0
PRODID:-//Because There&#039;s More Publishing, LLC - ECPv6.15.20//NONSGML v1.0//EN
CALSCALE:GREGORIAN
METHOD:PUBLISH
X-ORIGINAL-URL:https://becausetheresmorepublishing.com
X-WR-CALDESC:Events for Because There&#039;s More Publishing, LLC
REFRESH-INTERVAL;VALUE=DURATION:PT1H
X-Robots-Tag:noindex
X-PUBLISHED-TTL:PT1H
BEGIN:VTIMEZONE
TZID:America/New_York
BEGIN:DAYLIGHT
TZOFFSETFROM:-0500
TZOFFSETTO:-0400
TZNAME:EDT
DTSTART:20240310T070000
END:DAYLIGHT
BEGIN:STANDARD
TZOFFSETFROM:-0400
TZOFFSETTO:-0500
TZNAME:EST
DTSTART:20241103T060000
END:STANDARD
BEGIN:DAYLIGHT
TZOFFSETFROM:-0500
TZOFFSETTO:-0400
TZNAME:EDT
DTSTART:20250309T070000
END:DAYLIGHT
BEGIN:STANDARD
TZOFFSETFROM:-0400
TZOFFSETTO:-0500
TZNAME:EST
DTSTART:20251102T060000
END:STANDARD
BEGIN:DAYLIGHT
TZOFFSETFROM:-0500
TZOFFSETTO:-0400
TZNAME:EDT
DTSTART:20260308T070000
END:DAYLIGHT
BEGIN:STANDARD
TZOFFSETFROM:-0400
TZOFFSETTO:-0500
TZNAME:EST
DTSTART:20261101T060000
END:STANDARD
BEGIN:DAYLIGHT
TZOFFSETFROM:-0500
TZOFFSETTO:-0400
TZNAME:EDT
DTSTART:20270314T070000
END:DAYLIGHT
BEGIN:STANDARD
TZOFFSETFROM:-0400
TZOFFSETTO:-0500
TZNAME:EST
DTSTART:20271107T060000
END:STANDARD
END:VTIMEZONE
BEGIN:VEVENT
DTSTART;TZID=America/New_York:20260208T100000
DTEND;TZID=America/New_York:20260208T130000
DTSTAMP:20260424T164512
CREATED:20260119T042851Z
LAST-MODIFIED:20260129T131850Z
UID:10214-1770544800-1770555600@becausetheresmorepublishing.com
SUMMARY:Official Book Launch: The Life of Mother Kathaleen McGhaney
DESCRIPTION:Official Book Launch & Signing\nThe Life of Mother Kathaleen McGhaney by Dr. Devorha L. Anderson\nJoin us for the Official Book Launch and Signing of The Life of Mother Kathaleen McGhaney on Sunday\, February 8\, 2026\, at The Arise Church of Atlanta\, immediately following morning worship. \nMorning Worship begins at 10:00 AM.  \nFollowing service\, stay for a special time of celebration\, fellowship\, and reflection as we honor the remarkable life and legacy of Mother Kathaleen McGhaney. \nBook Signing is from 12:30 PM – 1:30 PM. \nThis powerful biography tells the true story of a woman whose unwavering “yes” to God transformed generations. From humble beginnings to a far-reaching spiritual impact\, Mother McGhaney’s life stands as living proof that prayer still works and that God is still moving\, still speaking\, and still performing miracles today. \nWhat you’ll experience: \n\nAn opportunity to meet the author\, Dr. Devorha L. Anderson\nA chance to meet and celebrate Mother Kathaleen McGhaney\nBook signing and personal interaction\nFellowship with the church family and community\nA moment to reflect on a life poured out in faith\, obedience\, and love\n\nWhether you’ve been touched by Mother McGhaney’s ministry or are discovering her story for the first time\, this event is an invitation to be encouraged\, inspired\, and reminded of the power of a surrendered life. \n📍 Location:\n2636 Fairburn Rd SW\nAtlanta\, GA 30331 \nCome out\, support\, and celebrate this extraordinary legacy.\nWe look forward to seeing you!
URL:https://becausetheresmorepublishing.com/event/official-book-launch-the-life-of-mother-kathaleen-mcghaney/
LOCATION:Arise Church Atlanta\, 2636 Fairburn Rd SW\, Atlanta\, 30331\, United States
CATEGORIES:Author Event
ATTACH;FMTTYPE=image/jpeg:https://becausetheresmorepublishing.com/wp-content/uploads/2025/12/Life-of-Mother-McGhaney-JPEG-Book-Cover.jpg
END:VEVENT
BEGIN:VEVENT
DTSTART;TZID=America/New_York:20251213T130000
DTEND;TZID=America/New_York:20251213T150000
DTSTAMP:20260424T164512
CREATED:20251210T152152Z
LAST-MODIFIED:20251213T131549Z
UID:9996-1765630800-1765638000@becausetheresmorepublishing.com
SUMMARY:Official Book Launch: A Magical Day with Gracie
DESCRIPTION:🌟 Official Book Launch: A Magical Day with Gracie\nBy Jenise Greene\, LPC\, RPT\, NCC\, CAMS \nJoin us for a heartwarming celebration as we officially launch A Magical Day with Gracie—a delightful children’s book that empowers little ones with coping skills\, confidence\, and courage for life’s new experiences. \nWritten by Licensed Professional Counselor and Play Therapist Jenise Greene\, this beautiful story helps young readers understand and manage their emotions through simple\, kid-friendly strategies. Gracie’s journey reminds children that big feelings don’t have to be scary—they can become learning opportunities that shape confidence and resilience. \nThis family-friendly book launch will include:\n✨ A reading of A Magical Day with Gracie\n✨ A meet-the-author moment with Jenise Greene\n✨ Book signing & photo opportunities \n📅 Event Details\nDate: Saturday\, December 13\, 2025\nTime: 1:00 PM – 3:00 PM\nLocation: Lake Harbin Plaza\nRhema Wind Ministries\n2316 Lake Harbin Rd\nMorrow\, GA 30260 \n💜 Why This Book Matters\nA Magical Day with Gracie is the ultimate guide for little hearts learning big skills. Through gentle storytelling and relatable emotions\, children will discover how to breathe through their worries\, face new environments with bravery\, and embrace the magic of growth. \nWhether you’re a parent\, educator\, counselor\, or someone who loves children’s literature\, this launch event is the perfect opportunity to experience the magic and message behind Gracie’s story. \n🎉 Bring the kids\, invite a friend\, and come celebrate this beautiful new release! We can’t wait to see you there.
URL:https://becausetheresmorepublishing.com/event/official-book-launch-a-magical-day-with-gracie/
LOCATION:Rhema Wind Ministries\, 2316 Lake Harbin Rd\, Morrow\, GA\, 30260\, United States
CATEGORIES:Author Event
ATTACH;FMTTYPE=image/png:https://becausetheresmorepublishing.com/wp-content/uploads/2025/12/Gracie-eventbrite.png
END:VEVENT
BEGIN:VEVENT
DTSTART;TZID=America/New_York:20250802T140000
DTEND;TZID=America/New_York:20250802T160000
DTSTAMP:20260424T164512
CREATED:20250709T153439Z
LAST-MODIFIED:20250728T221014Z
UID:9094-1754143200-1754150400@becausetheresmorepublishing.com
SUMMARY:Official Book Launch & Signing with Janice P. Dixon
DESCRIPTION:✨ Official Book Launch & Signing with Janice P. Dixon ✨\nJoin Janice P. Dixon for the launch and book signing of her inspiring memoir\, Seventy Times Seven. This event will take place on Saturday\, August 2nd at 2:00 PM at Barnes & Noble in Newnan\, GA. \n📍 Location:\nBarnes & Noble\nThe Forum at Ashley Park\n342 Newnan Crossing Bypass\nNewnan\, GA 30265 \nCome meet Janice in person\, show your support\, and get your book signed. Celebrate the release of Seventy Times Seven\, a story of faith\, forgiveness\, and finding the courage to start over. Hear about Janice’s journey and leave encouraged to embrace your own path to healing and hope. \n✨ Don’t miss this special event! Bring a friend and join us for an afternoon of inspiration\, connection\, and celebration.
URL:https://becausetheresmorepublishing.com/event/official-book-launch-signing-with-janice-p-dixon/
LOCATION:Barnes & Noble\, 342 Newnan Crossing Bypass\, Newnan\, GA\, 30265\, United States
CATEGORIES:Author Event
ATTACH;FMTTYPE=image/jpeg:https://becausetheresmorepublishing.com/wp-content/uploads/2025/03/janice-book-launch.jpg
END:VEVENT
BEGIN:VEVENT
DTSTART;TZID=America/New_York:20250627T190000
DTEND;TZID=America/New_York:20250628T150000
DTSTAMP:20260424T164512
CREATED:20240502T125821Z
LAST-MODIFIED:20250606T122714Z
UID:4672-1751050800-1751122800@becausetheresmorepublishing.com
SUMMARY:Pink\, Pearls\, & Purpose Women's Conference
DESCRIPTION:Pink\, Pearls\, and Purpose Women’s Ministry Conference8th Year Celebration | June 27–28\, 2025New Pleasant Grove Baptist Church5090 Springdale Road\, Forest Park\, GA 30297 \nLadies\, it’s time to rise\, shine\, and “Pass the Salt!”Join Pastor Sabrina Westmoreland and the Pink\, Pearls\, and Purpose Women’s Ministry for their 8th Annual Celebration Conference\, an empowering two-day event rooted in faith\, sisterhood\, and purpose. \n📖 Theme: Pass the Salt\, PleaseScripture: Matthew 5:13“You are the salt of the earth…” \n✨ Featured Guest Speakers: \n\n\nEvangelist Stephanie Renee – Friday\, June 27 at 7:00 PM \n\n\nPastor Sharlene Hendley – Saturday\, June 28 at 3:00 PM \n\n\nPrepare for a spirit-filled atmosphere of worship\, inspiration\, and transformation as we celebrate eight years of purpose-driven ministry. Whether you’re a longtime supporter or attending for the first time\, this is your moment to connect\, grow\, and thrive. \n💵 Registration: $20Cash App: $PPPWomensMinistryVenmo: @PrayerWarrior64 \nDon’t miss this unforgettable gathering of women thriving on purpose!
URL:https://becausetheresmorepublishing.com/event/pink-pearls-purpose-womens-conference/
LOCATION:New Pleasant Grove Baptist Church\, 5090 Springdale Road\, Forest Park\, 30297\, United States
CATEGORIES:Author Conference,Author Event
ATTACH;FMTTYPE=image/jpeg:https://becausetheresmorepublishing.com/wp-content/uploads/2024/05/PPP-Womens-Conference.jpg
ORGANIZER;CN="Sabrina Westmoreland":MAILTO:westmorelandministries@gmail.com
END:VEVENT
BEGIN:VEVENT
DTSTART;TZID=America/New_York:20250607T150000
DTEND;TZID=America/New_York:20250607T170000
DTSTAMP:20260424T164512
CREATED:20250502T024109Z
LAST-MODIFIED:20250603T160547Z
UID:8593-1749308400-1749315600@becausetheresmorepublishing.com
SUMMARY:Double Book Premier with Lanetta Allen
DESCRIPTION:We’re so excited to invite you to something truly special! Our founder\, Lanetta Allen\, will be relaunching one book that’s close to her heart and introducing a brand new one that’s been a long time coming. Come celebrate with her at the Double Book Premiere for Reflections from the Heart and For Your Eyes Only. \n✨ About the Books:\nReflections from the Heart – My Journey to Wholeness through the Poetic“He has made everything beautiful in its time…” – Ecclesiastes 3:11 \nReflections That Speak to the Heart and Stir the Spirit. Reflections from the Heart is a spiritually rich and emotionally honest journey of transformation. It reads like a devotional memoir told through poetry – layered with worship\, testimony\, affirmation\, and encouragement. Each piece is rooted in Scripture and reveals a woman who has walked through pain\, grown through process\, and emerged whole – boldly declaring God’s faithfulness along the way. \nBook Now Available: https://a.co/d/cOMFZwH \n\nFor Your Eyes Only – Words of Faith\, Love & Romance“Many waters cannot quench love…” – Song of Solomon 8:7 \nA soulful collection of poems and reflections for the hopeful romantic. For Your Eyes Only is a soul-stirring journey that tenderly explores the intersections of healing\, faith\, rediscovery\, and the enduring hope of true love. With a voice that is both vulnerable and courageous\, the author speaks to the heart of anyone who’s ever wondered\, Can I love again? Can I trust again? \nBook Now Available: https://a.co/d/4eqhMC2 \n\n🎤 What to Expect (3 PM – 5 PM):\n\nMeet + greet\nBook signing\nA few readings from each book\nSpace to ask questions\, share stories\, and connect\nLight refreshments and warm vibes\n\n🎟️ This part is FREE – just RSVP to let me know you’re coming! Books will be available for purchase at the event and online. \n\n🌙 Bonus: Saturday Night Poetic Flo (6 PM – 9 PM)\nIf you’re still in the mood for good vibes and powerful words\, stick around! That evening\, I’ll also be performing at the Saturday Night Poetic Flo summer series kickoff right here at Social Cafe. \n🎟️ Admission: $10 (pay on online)🍽️ Food available for purchase from the cafe \n\nCome for the books. Stay for the love\, laughter\, healing\, and poetry. I can’t wait to see you there!
URL:https://becausetheresmorepublishing.com/event/double-book-premier-with-lanetta-allen-6-7-25/
LOCATION:Social Cafe\, 2439 Main Street East\, Suite 7\, Snellville\, GA\, 30078\, United States
CATEGORIES:Author Event,BTMP Event
ATTACH;FMTTYPE=image/png:https://becausetheresmorepublishing.com/wp-content/uploads/2025/05/SAVE-THE-DATE-LAUNCH.png
ORGANIZER;CN="Because There's More Publishing LLC":MAILTO:events@becausetheresmorepublishing.com
END:VEVENT
BEGIN:VEVENT
DTSTART;TZID=America/New_York:20250518T123000
DTEND;TZID=America/New_York:20250518T143000
DTSTAMP:20260424T164512
CREATED:20250312T213014Z
LAST-MODIFIED:20250502T025948Z
UID:8066-1747571400-1747578600@becausetheresmorepublishing.com
SUMMARY:"Made in the Middle" Book Launch Celebration🎉📖
DESCRIPTION:SAVE-THE-DATE\nCome and celebrate the highly anticipated release of Made in the Middle by Myraio L. Mitchell Sr.! 🎉📖 Join us on Sunday\, May 18th\, immediately after morning service at Church of Jesus for an unforgettable book launch event. Be among the first to grab your copy\, meet the author\, and experience this inspiring new release! \nYou’re welcome to attend the morning service at 10 AM before the event. \nMark your calendar and don’t miss this exciting launch! More details coming soon\, including a link for pre-orders. Don’t miss it! \nRSVP Here\n\nABOUT THE BOOK:\nWhat happens when quitting is not an option? The middle seasons of life – the space between the promise and its fulfillment – can feel like detours\, delays\, or disappointments. But what if the middle is where transformation happens? This 40-day devotional journey will challenge you to: \n✨ Embrace the process instead of resenting the wait.\n✨ Guard your heart when the journey feels uncertain.\n✨ Trust God’s timing – even when nothing seems to move.\n✨ See the middle as a place of miracles\, not setbacks. \nThrough powerful insights\, scriptural encouragement\, and actionable steps\, this devotional is more than a guide – it’s a companion for the journey. You won’t just reach your destination – you’ll become the person fully prepared to embrace it. \nThis devotional will remind you: the middle isn’t where you break – it’s where you’re MADE!
URL:https://becausetheresmorepublishing.com/event/made-in-the-middle-book-launch-celebration/
LOCATION:Church of Jesus\, 2381 Jonesboro Rd SE\, Atlanta\, 30315\, United States
CATEGORIES:Author Event
ATTACH;FMTTYPE=image/png:https://becausetheresmorepublishing.com/wp-content/uploads/2025/02/Final-Book-Cover-Made-in-the-Middle-scaled.png
END:VEVENT
BEGIN:VEVENT
DTSTART;TZID=America/New_York:20250215T160000
DTEND;TZID=America/New_York:20250215T183000
DTSTAMP:20260424T164512
CREATED:20250121T172644Z
LAST-MODIFIED:20250121T172644Z
UID:7901-1739635200-1739644200@becausetheresmorepublishing.com
SUMMARY:Love Don't Change Presents A Night of Fun & Laughter for Couples
DESCRIPTION:Join authors\, Franklin & Sabrina Westmoreland of Love Don’t Change\, for a night of fun and laughter! \nEvent Title:\nLove Don’t Change Presents Love United: A Night of Fun & Laughter for Couples \nDate:\nThe day after Valentine’s Day – Saturday\, February 15\, 2025 \nDescription:\nGet ready for an unforgettable evening filled with love\, laughter\, and connection! Love United: A Night of Fun & Laughter for Couples is all about creating an atmosphere of FREEDOM where you can let loose\, be yourself\, and celebrate your relationship. \nHere’s what’s in store for the night: \n\nUplifting spoken word\nBeautiful love songs to set the mood\nSharing of personal testimonies to inspire and encourage\nHeartfelt affirmations and promises to strengthen your bond\nFun games to spark joy and laughter\nDelicious food to enjoy together\n\nAdmission is free\, but food must be purchased at Social Café\, where the menu is packed with delicious and affordable options. \nWhether you’re celebrating new love\, years of marriage\, or just looking for a meaningful way to connect\, this night is for you. Come laugh\, share\, and be encouraged in a space that’s all about celebrating love. Let’s make this a night to remember!
URL:https://becausetheresmorepublishing.com/event/love-dont-change-presents-a-night-of-fun-laughter-for-couples/
LOCATION:Social Cafe\, 2439 Main Street East\, Suite 7\, Snellville\, GA\, 30078\, United States
CATEGORIES:Author Event
ATTACH;FMTTYPE=image/png:https://becausetheresmorepublishing.com/wp-content/uploads/2025/01/LDC-COVER-3.png
END:VEVENT
END:VCALENDAR