BEGIN:VCALENDAR
VERSION:2.0
PRODID:-//Because There&#039;s More Publishing, LLC - ECPv6.15.20//NONSGML v1.0//EN
CALSCALE:GREGORIAN
METHOD:PUBLISH
X-WR-CALNAME:Because There&#039;s More Publishing, LLC
X-ORIGINAL-URL:https://becausetheresmorepublishing.com
X-WR-CALDESC:Events for Because There&#039;s More Publishing, LLC
REFRESH-INTERVAL;VALUE=DURATION:PT1H
X-Robots-Tag:noindex
X-PUBLISHED-TTL:PT1H
BEGIN:VTIMEZONE
TZID:America/New_York
BEGIN:DAYLIGHT
TZOFFSETFROM:-0500
TZOFFSETTO:-0400
TZNAME:EDT
DTSTART:20240310T070000
END:DAYLIGHT
BEGIN:STANDARD
TZOFFSETFROM:-0400
TZOFFSETTO:-0500
TZNAME:EST
DTSTART:20241103T060000
END:STANDARD
BEGIN:DAYLIGHT
TZOFFSETFROM:-0500
TZOFFSETTO:-0400
TZNAME:EDT
DTSTART:20250309T070000
END:DAYLIGHT
BEGIN:STANDARD
TZOFFSETFROM:-0400
TZOFFSETTO:-0500
TZNAME:EST
DTSTART:20251102T060000
END:STANDARD
BEGIN:DAYLIGHT
TZOFFSETFROM:-0500
TZOFFSETTO:-0400
TZNAME:EDT
DTSTART:20260308T070000
END:DAYLIGHT
BEGIN:STANDARD
TZOFFSETFROM:-0400
TZOFFSETTO:-0500
TZNAME:EST
DTSTART:20261101T060000
END:STANDARD
BEGIN:DAYLIGHT
TZOFFSETFROM:-0500
TZOFFSETTO:-0400
TZNAME:EDT
DTSTART:20270314T070000
END:DAYLIGHT
BEGIN:STANDARD
TZOFFSETFROM:-0400
TZOFFSETTO:-0500
TZNAME:EST
DTSTART:20271107T060000
END:STANDARD
END:VTIMEZONE
BEGIN:VEVENT
DTSTART;VALUE=DATE:20251215
DTEND;VALUE=DATE:20260103
DTSTAMP:20260424T210533
CREATED:20251210T184939Z
LAST-MODIFIED:20251210T190351Z
UID:9995-1765756800-1767398399@becausetheresmorepublishing.com
SUMMARY:Office Closed for Christmas and New Year Holidays
DESCRIPTION:Our office will be closed December 15\, 2025 – January 2\, 2026. Our bookstore remains open\, so feel free to browse and shop. Our books make wonderful gifts and stocking stuffers! \n 
URL:https://becausetheresmorepublishing.com/event/office-closed-for-christmas-and-new-year-holidays/
LOCATION:GA
END:VEVENT
END:VCALENDAR